BEGIN:VCALENDAR
VERSION:2.0
PRODID:-//TYPO3/NONSGML News system (news)//EN
BEGIN:VEVENT
UID:news-135568@wegcenter.uni-graz.at
DTSTAMP:20260408T073614Z
DTSTART:20260427T153000Z
DTEND:20260427T173000Z
SUMMARY:Klimakrise gelöst – wie das denn?

DESCRIPTION:In interessanten Zeiten. Der Talk der 7. Fakultät.
END:VEVENT
END:VCALENDAR
