BEGIN:VCALENDAR
VERSION:2.0
PRODID:-//TYPO3/NONSGML News system (news)//EN
BEGIN:VEVENT
UID:news-135827@wegcenter.uni-graz.at
DTSTAMP:20260416T092438Z
DTSTART:20260430T090000Z
DTEND:20260430T103000Z
SUMMARY:Climate Risk Assessment for Policy Making

DESCRIPTION:Wegener Center Common Space with Marc Zebisch
END:VEVENT
END:VCALENDAR
