BEGIN:VCALENDAR
VERSION:2.0
PRODID:-//TYPO3/NONSGML News system (news)//EN
BEGIN:VEVENT
UID:news-126029@wegcenter.uni-graz.at
DTSTAMP:20260415T115848Z
DTSTART:20260518T130000Z
DTEND:20260518T140000Z
SUMMARY:Info event: MSc programme Climate Change &amp; Transformation Science

DESCRIPTION:Get insights into the programme and chat with lecturers &amp; students!
END:VEVENT
END:VCALENDAR
