BEGIN:VCALENDAR
VERSION:2.0
PRODID:-//TYPO3/NONSGML News system (news)//EN
BEGIN:VEVENT
UID:news-135729@wegcenter.uni-graz.at
DTSTAMP:20260415T053842Z
DTSTART:20260428T150000Z
DTEND:20260428T170000Z
SUMMARY:Geschäftsmodell Klimawandel: Nachhaltig oder Feigenblatt?

DESCRIPTION:Teil 4: Balanceakt CO2 – Fürchtet euch nicht!
END:VEVENT
END:VCALENDAR
